BEGIN:VCALENDAR
PRODID:-//eluceo/ical//2.0/EN
VERSION:2.0
CALSCALE:GREGORIAN
BEGIN:VEVENT
UID:ec30b3be2436f70bf5518b4207496201
DTSTAMP:20260421T093120Z
SUMMARY:CJF Board Meeting
DESCRIPTION:Charleston Jewish Federation\nJewish Community Calendar\nhttps:
 //jewishcharleston.org/event-calendar/cjf-board-meeting-1670504272\n\nCJF 
 Office
DTSTART;TZID=America/New_York:20231108T183000
DTEND;TZID=America/New_York:20231108T200000
END:VEVENT
END:VCALENDAR
