BEGIN:VCALENDAR
PRODID:-//eluceo/ical//2.0/EN
VERSION:2.0
CALSCALE:GREGORIAN
BEGIN:VEVENT
UID:cf91fa7c5adbef493e7a43d7e08d0a89
DTSTAMP:20260421T161259Z
SUMMARY:CJF Board Meeting
DESCRIPTION:Charleston Jewish Federation\nJewish Community Calendar\nhttps:
 //jewishcharleston.org/event-calendar/cjf-board-meeting-1670504177\n\nCJF 
 Office
DTSTART;TZID=America/New_York:20231011T183000
DTEND;TZID=America/New_York:20231011T200000
END:VEVENT
END:VCALENDAR
