BEGIN:VCALENDAR
PRODID:-//eluceo/ical//2.0/EN
VERSION:2.0
CALSCALE:GREGORIAN
BEGIN:VEVENT
UID:a1d27ddbb1bb672c46a4d9c83331926f
DTSTAMP:20260422T113155Z
SUMMARY:CJF Board Meeting
DESCRIPTION:Charleston Jewish Federation\nJewish Community Calendar\nhttps:
 //jewishcharleston.org/event-calendar/cjf-board-meeting-1670504071\n\nCJF 
 Office
DTSTART;TZID=America/New_York:20230913T183000
DTEND;TZID=America/New_York:20230913T200000
END:VEVENT
END:VCALENDAR
