BEGIN:VCALENDAR
PRODID:-//eluceo/ical//2.0/EN
VERSION:2.0
CALSCALE:GREGORIAN
BEGIN:VEVENT
UID:d732cd4a043e1a6434983a1107db6334
DTSTAMP:20260422T073834Z
SUMMARY:CJF Board Meeting
DESCRIPTION:Charleston Jewish Federation\nJewish Community Calendar\nhttps:
 //jewishcharleston.org/event-calendar/cjf-board-meeting-1670503928\n\nCJF 
 Office
DTSTART;TZID=America/New_York:20230809T183000
DTEND;TZID=America/New_York:20230809T200000
END:VEVENT
END:VCALENDAR
