BEGIN:VCALENDAR
PRODID:-//eluceo/ical//2.0/EN
VERSION:2.0
CALSCALE:GREGORIAN
BEGIN:VEVENT
UID:47c9c8ade733da66b2ae81c08750b1e5
DTSTAMP:20260425T231529Z
SUMMARY:CJF Board Meeting
DESCRIPTION:Charleston Jewish Federation\nJewish Community Calendar\nhttps:
 //jewishcharleston.org/event-calendar/cjf-board-meeting-1670503066\n\nCJF 
 Office
DTSTART;TZID=America/New_York:20230208T183000
DTEND;TZID=America/New_York:20230208T200000
END:VEVENT
END:VCALENDAR
