BEGIN:VCALENDAR
PRODID:-//eluceo/ical//2.0/EN
VERSION:2.0
CALSCALE:GREGORIAN
BEGIN:VEVENT
UID:3535447a921d4fffb4ab87846c2ce751
DTSTAMP:20260422T001345Z
SUMMARY:Charleston Jewish Filmfest Presents: “Sabotage”
DESCRIPTION:Charleston Jewish Federation\nJewish Community Calendar\nhttps:
 //jewishcharleston.org/event-calendar/charleston-jewish-filmfest-presents-
 sabotage-1694719289\n\nThis dramatic unknown story of the women&#039\;s un
 derground operation in Auschwitz-Birkenau is told through the eyes of Anna
  Wajcblum Heilman\, the sister of the youngest member of the women’s res
 istance. Professor Chad Gibbs will highlight a facet of Holocaust history 
 on the anniversary of Kristallnacht. In-person only. Register at bit.ly/sa
 botage2023
DTSTART;TZID=America/New_York:20231109T180000
DTEND;TZID=America/New_York:20231109T190000
END:VEVENT
END:VCALENDAR
