BEGIN:VCALENDAR
PRODID:-//eluceo/ical//2.0/EN
VERSION:2.0
CALSCALE:GREGORIAN
BEGIN:VEVENT
UID:070a7999f72242ae0158ec97df6a182a
DTSTAMP:20260425T212656Z
SUMMARY:Charleston Jewish Filmfest Presents: Haute Couture
DESCRIPTION:Charleston Jewish Federation\nJewish Community Calendar\nhttps:
 //jewishcharleston.org/event-calendar/charleston-jewish-filmfest-presents-
 haute-couture-1673973311\n\nAfter her purse is stolen\, Esther\, head of t
 he Christian Dior dressmaking studio\, develops an unlikely mentor relatio
 nship with streetwise Jade. Starring French icon Nathalie Baye. Cosponsore
 d by Alliance Française Ciné-Club.Registration link: https://bit.ly/haut
 ecouture23
DTSTART;TZID=America/New_York:20230211T190000
DTEND;TZID=America/New_York:20230211T210000
END:VEVENT
END:VCALENDAR
