BEGIN:VCALENDAR
PRODID:-//eluceo/ical//2.0/EN
VERSION:2.0
CALSCALE:GREGORIAN
BEGIN:VEVENT
UID:37daa05b42ccd34b78a3aa175478bce9
DTSTAMP:20260421T230253Z
SUMMARY:Charleston Jewish Filmfest presents "Golda"
DESCRIPTION:Charleston Jewish Federation\nJewish Community Calendar\nhttps:
 //jewishcharleston.org/event-calendar/charleston-jewish-filmfest-presents-
 golda-1688580758\n\nSynopsis of "GOLDA" During the Yom Kippur War in 1973\
 , Israeli Prime Minister Golda Meir must navigate overwhelming odds\, a sk
 eptical cabinet\, and a complex relationship with U.S. Secretary of State 
 Henry Kissinger as millions of lives hang in the balance.
DTSTART;TZID=America/New_York:20230827T160000
DTEND;TZID=America/New_York:20230827T180000
END:VEVENT
END:VCALENDAR
