BEGIN:VCALENDAR
PRODID:-//eluceo/ical//2.0/EN
VERSION:2.0
CALSCALE:GREGORIAN
BEGIN:VEVENT
UID:d5752660ebf5ee704fec5347039a1a25
DTSTAMP:20260421T083809Z
SUMMARY:Charleston Jewish Filmfest at Nuovo Cinema Italiano Film Festival
DESCRIPTION:Charleston Jewish Federation\nJewish Community Calendar\nhttps:
 //jewishcharleston.org/event-calendar/charleston-jewish-filmfest-at-nuovo-
 cinema-italiano-film-festival-1690732645\n\nCharleston Jewish Filmfest pre
 sents movies at Nuovo Cinema Italiano Film Festival
DTSTART;TZID=America/New_York:20231102T190000
DTEND;TZID=America/New_York:20231105T210000
END:VEVENT
END:VCALENDAR
