BEGIN:VCALENDAR
PRODID:-//eluceo/ical//2.0/EN
VERSION:2.0
CALSCALE:GREGORIAN
BEGIN:VEVENT
UID:4c980886518d4424f291e81c523f7687
DTSTAMP:20260422T081214Z
SUMMARY:Charleston Jewish Community Super Sunday 2023
DESCRIPTION:Charleston Jewish Federation\nJewish Community Calendar\nhttps:
 //jewishcharleston.org/event-calendar/charleston-jewish-community-super-su
 nday\n\nOn August 27th we’re calling on YOU to be a superhero for the Je
 wish world\n\n\n\n\n\n\n\n\n\nSuper Sunday is a day of philanthropy that u
 nites us as a people and demonstrates the power of community. With  your 
 donation to the Charleston Jewish Community Campaign\, you’ll change liv
 es and strengthen our community at home\, in Israel and wherever there is 
 Jewish life around the world.\n\nAnswer the call on August 27th or simply 
 DONATE NOW and make your power felt today!\n\n...
DTSTART;TZID=America/New_York:20230827T100000
DTEND;TZID=America/New_York:20230827T130000
END:VEVENT
END:VCALENDAR
