BEGIN:VCALENDAR
PRODID:-//eluceo/ical//2.0/EN
VERSION:2.0
CALSCALE:GREGORIAN
BEGIN:VEVENT
UID:6c4af402ce57d8331a16f8f250143fe6
DTSTAMP:20260421T202120Z
SUMMARY:Charleston Jewish Community Rally in Solidarity with Israel
DESCRIPTION:Charleston Jewish Federation\nJewish Community Calendar\nhttps:
 //jewishcharleston.org/event-calendar/charleston-jewish-community-rally-in
 -solidarity-with-israel\n\nOur Charleston Jewish community stands proudly 
 and unequivocally together with the people of Israel. Please join us as we
  gather as a community to mourn\, draw strength from each other\, and expr
 ess hope for a peaceful future. Open to all.\n\nOn Wednesday\, October 11 
 from 6:00-7:30 pm at Synagogue Emanu El for a community-wide solidarity g
 athering. \n\nAm Yisrael chai.\n\nRegistration Required. 
DTSTART;TZID=America/New_York:20231011T180000
DTEND;TZID=America/New_York:20231011T193000
END:VEVENT
END:VCALENDAR
