BEGIN:VCALENDAR
PRODID:-//eluceo/ical//2.0/EN
VERSION:2.0
CALSCALE:GREGORIAN
BEGIN:VEVENT
UID:ebb99aeeceb6372393515af5a290154d
DTSTAMP:20260425T231618Z
SUMMARY:Charleston Community Yom HaShoah Commemoration
DESCRIPTION:Charleston Jewish Federation\nJewish Community Calendar\nhttps:
 //jewishcharleston.org/event-calendar/charleston-community-yom-hashoah-com
 memoration\n\nPlease join us on April 23 to honor our local survivors and 
 their descendants\, remember those we lost in the Holocaust\, and begin t
 o understand the Shoah through multi-generational perspectives. Together\,
  we will keep the memory of those senselessly murdered in the Holocaust al
 ive. This event is FREE and open to the public. Register here. 
DTSTART;TZID=America/New_York:20230423T000000
DTEND;TZID=America/New_York:20230423T235959
END:VEVENT
END:VCALENDAR
