BEGIN:VCALENDAR
PRODID:-//eluceo/ical//2.0/EN
VERSION:2.0
CALSCALE:GREGORIAN
BEGIN:VEVENT
UID:61dca8b2108b05d389bb79f41a08aafb
DTSTAMP:20260421T134031Z
SUMMARY:Chanukah in the Square 2023
DESCRIPTION:Charleston Jewish Federation\nJewish Community Calendar\nhttps:
 //jewishcharleston.org/event-calendar/chanukah-in-the-square2023\n\n*Famil
 y-friendly and Free*\n\nJoin us for Charleston&#39\;s annual Chanukah in t
 he Square extravaganza.\n\nWe are thrilled to return to Marion Square for 
 the 16th annual Chanukah in the Square celebration. Please plan on being t
 here with your neighbors\, friends\, and family. Bring an appetite and you
 r Chanukah spirit. We will supply the hot food\, the live music\, and the 
 festive atmosphere! There will be no shortage of treats for everyone.\n\nE
 ntertainment:\n-Live Music\n-Hot Latkes\n-Donuts\n-Hot P...
DTSTART;TZID=America/New_York:20231210T160000
DTEND;TZID=America/New_York:20231210T180000
END:VEVENT
END:VCALENDAR
