BEGIN:VCALENDAR
PRODID:-//eluceo/ical//2.0/EN
VERSION:2.0
CALSCALE:GREGORIAN
BEGIN:VEVENT
UID:f8c92682c29a062de0672d5c96db36a5
DTSTAMP:20260425T165957Z
SUMMARY:CDT YOUTH Pre-Purim Palooza
DESCRIPTION:Charleston Jewish Federation\nJewish Community Calendar\nhttps:
 //jewishcharleston.org/event-calendar/cdt-youth-pre-purim-palooza-16759564
 34\n\nMiddle schoolers are invited to the Mimrans&#039\; home for snacks\,
  music\, mask-making\, and Hamantaschen!!
DTSTART;TZID=America/New_York:20230218T193000
DTEND;TZID=America/New_York:20230218T210000
END:VEVENT
END:VCALENDAR
