BEGIN:VCALENDAR
PRODID:-//eluceo/ical//2.0/EN
VERSION:2.0
CALSCALE:GREGORIAN
BEGIN:VEVENT
UID:565617a3fa4c951488b94acfda64d472
DTSTAMP:20260425T231524Z
SUMMARY:CDT TOT Shabbat
DESCRIPTION:Charleston Jewish Federation\nJewish Community Calendar\nhttps:
 //jewishcharleston.org/event-calendar/cdt-tot-shabbat-1659552105\n\nFor ag
 es 3 + Join us for prayer\, songs\, Kiddush\, and fun games with special p
 rizes! More info at dortikvah.org/youth
DTSTART;TZID=America/New_York:20230218T100000
DTEND;TZID=America/New_York:20230218T113000
END:VEVENT
END:VCALENDAR
