BEGIN:VCALENDAR
PRODID:-//eluceo/ical//2.0/EN
VERSION:2.0
CALSCALE:GREGORIAN
BEGIN:VEVENT
UID:07d748c0abb739ce5f97e165b50ec3b8
DTSTAMP:20260423T235201Z
SUMMARY:CDT Shavuot: TORAH SLAM 2023
DESCRIPTION:Charleston Jewish Federation\nJewish Community Calendar\nhttps:
 //jewishcharleston.org/event-calendar/cdt-shavuot-torah-slam-2023-16827102
 48\n\nThis year&#039\;s Shavuot Torah Slam will be on Sefer Devarim\, book
  of Deuteronomy. Snag the Parsha you want to perform at dortikvah.org/slam
 Don&#039\;t want to perform? Just come enjoy the show!
DTSTART;TZID=America/New_York:20230525T221500
DTEND;TZID=America/New_York:20230525T233000
END:VEVENT
END:VCALENDAR
