BEGIN:VCALENDAR
PRODID:-//eluceo/ical//2.0/EN
VERSION:2.0
CALSCALE:GREGORIAN
BEGIN:VEVENT
UID:1538a8de06af9b5c3c3afdcf20b80771
DTSTAMP:20260424T053250Z
SUMMARY:CDT Shavuot: Soulful Seuda Shelishit Kumzits
DESCRIPTION:Charleston Jewish Federation\nJewish Community Calendar\nhttps:
 //jewishcharleston.org/event-calendar/cdt-shavuot-soulful-seuda-shelishit-
 kumzits-1682710914\n\nA special Neilat Hachag! Let your spirit soar in a S
 oulful Sing-Along and end Shavuot on a high note!See everything Dor Tikvah
  has to offer this Shavuot at dortikvah.org/shavuot
DTSTART;TZID=America/New_York:20230527T190000
DTEND;TZID=America/New_York:20230527T210000
END:VEVENT
END:VCALENDAR
