BEGIN:VCALENDAR
PRODID:-//eluceo/ical//2.0/EN
VERSION:2.0
CALSCALE:GREGORIAN
BEGIN:VEVENT
UID:4058c9146eddef2861cd5175319d5487
DTSTAMP:20260424T154929Z
SUMMARY:CDT Shavuot: Late Night Learning
DESCRIPTION:Charleston Jewish Federation\nJewish Community Calendar\nhttps:
 //jewishcharleston.org/event-calendar/cdt-shavuot-late-night-learning-1682
 710416\n\nJoin us and our Torah Tours guests for an amazing night of Torah
  learning! See everything Dor Tikvah has to offer this Shavuot at dortikva
 h.org/shavuot
DTSTART;TZID=America/New_York:20230525T233000
DTEND;TZID=America/New_York:20230526T013000
END:VEVENT
END:VCALENDAR
