BEGIN:VCALENDAR
PRODID:-//eluceo/ical//2.0/EN
VERSION:2.0
CALSCALE:GREGORIAN
BEGIN:VEVENT
UID:c21fa3a148253b10c2a997a046c6a5a9
DTSTAMP:20260424T092807Z
SUMMARY:CDT Shavuot: Lakeside Wine & Cheese
DESCRIPTION:Charleston Jewish Federation\nJewish Community Calendar\nhttps:
 //jewishcharleston.org/event-calendar/cdt-shavuot-lakeside-wine--cheese-16
 82710566\n\nDelightful company\, fascinating Schmooze\, with special spark
 s by our visiting Torah Tours\, hosted at the Rosenthal home. Followed by 
 Mincha\, Kabbalat Shabbat\, and Maariv by the lake.Concurrent kids&#039\; 
 programming with the Torah Tours at the Cappells&#039\; for 1st grade and 
 up.See everything Dor Tikvah has to offer this Shavuot at dortikvah.org/sh
 avuot
DTSTART;TZID=America/New_York:20230526T180000
DTEND;TZID=America/New_York:20230526T200000
END:VEVENT
END:VCALENDAR
