BEGIN:VCALENDAR
PRODID:-//eluceo/ical//2.0/EN
VERSION:2.0
CALSCALE:GREGORIAN
BEGIN:VEVENT
UID:4e411c5f7addc7e90920475baa233baf
DTSTAMP:20260423T204313Z
SUMMARY:CDT Shavuot: Kids' Extravaganza
DESCRIPTION:Charleston Jewish Federation\nJewish Community Calendar\nhttps:
 //jewishcharleston.org/event-calendar/cdt-shavuot-kids-extravaganza-168271
 0838\n\nFun Yom Tov activities for Kids of all ages\, hosted at Congregati
 on Dor Tikvah. For questions\, contact youth@dortikvah.org\n\nSee everythi
 ng Dor Tikvah has to offer this Shavuot at dortikvah.org/shavuot
DTSTART;TZID=America/New_York:20230527T180000
DTEND;TZID=America/New_York:20230527T200000
END:VEVENT
END:VCALENDAR
