BEGIN:VCALENDAR
PRODID:-//eluceo/ical//2.0/EN
VERSION:2.0
CALSCALE:GREGORIAN
BEGIN:VEVENT
UID:9d991d40da04cbfbe3c062dd8d1f3687
DTSTAMP:20260424T014139Z
SUMMARY:CDT Shavuot: Communal Yom Tov Meal
DESCRIPTION:Charleston Jewish Federation\nJewish Community Calendar\nhttps:
 //jewishcharleston.org/event-calendar/cdt-shavuot-communal-yom-tov-meal-16
 82710066\n\nJoin us at Dor Tikvah for a cozy community celebration - pleas
 e RSVP at dortikvah.org/YTMeal
DTSTART;TZID=America/New_York:20230525T213000
DTEND;TZID=America/New_York:20230525T221500
END:VEVENT
END:VCALENDAR
