BEGIN:VCALENDAR
PRODID:-//eluceo/ical//2.0/EN
VERSION:2.0
CALSCALE:GREGORIAN
BEGIN:VEVENT
UID:0770ed04534d01cf24732d0aa3b6877e
DTSTAMP:20260423T204309Z
SUMMARY:CDT Shavuot: Cheesecake Competition
DESCRIPTION:Charleston Jewish Federation\nJewish Community Calendar\nhttps:
 //jewishcharleston.org/event-calendar/cdt-shavuot-cheesecake-competition-1
 682710732\n\nTaste and rate some of the best cheesecakes in the state. Sig
 n up to compete and see everything Dor Tikvah has to offer this Shavuot at
  dortikvah.org/shavuot
DTSTART;TZID=America/New_York:20230527T113000
DTEND;TZID=America/New_York:20230527T123000
END:VEVENT
END:VCALENDAR
