BEGIN:VCALENDAR
PRODID:-//eluceo/ical//2.0/EN
VERSION:2.0
CALSCALE:GREGORIAN
BEGIN:VEVENT
UID:3ffcc8b6db62da81f0b2a9dbed8acd5e
DTSTAMP:20260425T165627Z
SUMMARY:CDT Pre-Purim Prep: Adult & Youth Programs
DESCRIPTION:Charleston Jewish Federation\nJewish Community Calendar\nhttps:
 //jewishcharleston.org/event-calendar/cdt-pre-purim-prep-adult--youth-prog
 rams-1676477258\n\nMishloach Manot & Megillah Discussion Simultaneous prog
 rams to engage both adults and children to get everyone in the spirit of P
 urim!dortikvah.org/purim
DTSTART;TZID=America/New_York:20230305T100000
DTEND;TZID=America/New_York:20230305T113000
END:VEVENT
END:VCALENDAR
