BEGIN:VCALENDAR
PRODID:-//eluceo/ical//2.0/EN
VERSION:2.0
CALSCALE:GREGORIAN
BEGIN:VEVENT
UID:2f0c36c79638a6339add7550333f0f48
DTSTAMP:20260425T022916Z
SUMMARY:CDT Pre-Pesach Kashering
DESCRIPTION:Charleston Jewish Federation\nJewish Community Calendar\nhttps:
 //jewishcharleston.org/event-calendar/cdt-pre-pesach-kashering-1679070839\
 n\nBring any items you need to Kashered between 10am & 11am and we will du
 nk them into boiling water for you!
DTSTART;TZID=America/New_York:20230402T100000
DTEND;TZID=America/New_York:20230402T110000
END:VEVENT
END:VCALENDAR
