BEGIN:VCALENDAR
PRODID:-//eluceo/ical//2.0/EN
VERSION:2.0
CALSCALE:GREGORIAN
BEGIN:VEVENT
UID:c7cd8d55de5a37c22796d0de34a94711
DTSTAMP:20260425T125525Z
SUMMARY:CDT Pesach Made Easy
DESCRIPTION:Charleston Jewish Federation\nJewish Community Calendar\nhttps:
 //jewishcharleston.org/event-calendar/cdt-pesach-made-easy-1679071006\n\nJ
 oin Rabbi Mimran on Zoom for a pre-Pesach prep course.https://dortikvah.sh
 ulcloud.com/event/pre-pesach23
DTSTART;TZID=America/New_York:20230328T193000
DTEND;TZID=America/New_York:20230328T213000
END:VEVENT
END:VCALENDAR
