BEGIN:VCALENDAR
PRODID:-//eluceo/ical//2.0/EN
VERSION:2.0
CALSCALE:GREGORIAN
BEGIN:VEVENT
UID:ca35a10bb0437e3d439d4c1c189b88be
DTSTAMP:20260422T202058Z
SUMMARY:CDT Middle Schoolers NYC Trip
DESCRIPTION:Charleston Jewish Federation\nJewish Community Calendar\nhttps:
 //jewishcharleston.org/event-calendar/cdt-middle-schoolers-nyc-trip-168373
 1357\n\nJoin us for a fun Summer trip to the big apple with all your frien
 ds! RSVP by June 9th at dortikvah.org/YouthNYC(Registration cost includes 
 flight\, food\, attractions\, and accommodations.)For questions\, contact 
 Avi or Netanel Monderer at youth@dortikvah.org
DTSTART;TZID=America/New_York:20230709T110000
DTEND;TZID=America/New_York:20230711T230000
END:VEVENT
END:VCALENDAR
