BEGIN:VCALENDAR
PRODID:-//eluceo/ical//2.0/EN
VERSION:2.0
CALSCALE:GREGORIAN
BEGIN:VEVENT
UID:65e2093d7764463dd0ed7307fe306cf3
DTSTAMP:20260422T113145Z
SUMMARY:CDT Men's Game Night
DESCRIPTION:Charleston Jewish Federation\nJewish Community Calendar\nhttps:
 //jewishcharleston.org/event-calendar/cdt-mens-game-night-1666733291\n\nJo
 in us for an evening with the guys with games\, refreshments\, and schmooz
 ing! See all upcoming dates at dortikvah.org/event/wildcardFor questions\,
  contact George Poolman at georgepoolman@live.com
DTSTART;TZID=America/New_York:20230824T193000
DTEND;TZID=America/New_York:20230824T213000
END:VEVENT
END:VCALENDAR
