BEGIN:VCALENDAR
PRODID:-//eluceo/ical//2.0/EN
VERSION:2.0
CALSCALE:GREGORIAN
BEGIN:VEVENT
UID:dd0ee65067cec75cbc5ba02a3344e49f
DTSTAMP:20260422T041148Z
SUMMARY:CDT Holla for Challah
DESCRIPTION:Charleston Jewish Federation\nJewish Community Calendar\nhttps:
 //jewishcharleston.org/event-calendar/cdt-holla-for-hallah-1685475727\n\nI
 t&#39\;s every kid&#39\;s favorite way to prepare for Rosh Hashanah with f
 riends and family! Enjoy Challah-baking\, crafts\, games\, and more! Regis
 tration and details will be available at dortikvah.org.
DTSTART;TZID=America/New_York:20230910T100000
DTEND;TZID=America/New_York:20230910T120000
END:VEVENT
END:VCALENDAR
