BEGIN:VCALENDAR
PRODID:-//eluceo/ical//2.0/EN
VERSION:2.0
CALSCALE:GREGORIAN
BEGIN:VEVENT
UID:0d0bcb79fc84594b88babfc10487d7a7
DTSTAMP:20260422T113217Z
SUMMARY:CDT Friday Night Dinner: Welcome Home
DESCRIPTION:Charleston Jewish Federation\nJewish Community Calendar\nhttps:
 //jewishcharleston.org/event-calendar/cdt-friday-night-dinner-welcome-home
 -1689885982\n\nJoin us in welcoming our friends and family back to school\
 , as well as OUR NEW MEMBERS to the community!\nGrab your seats at dortiva
 h.org/FND\n\nMincha - 6:50 pm\nDinner - 7:45 pm
DTSTART;TZID=America/New_York:20230811T185000
DTEND;TZID=America/New_York:20230811T213000
END:VEVENT
END:VCALENDAR
