BEGIN:VCALENDAR
PRODID:-//eluceo/ical//2.0/EN
VERSION:2.0
CALSCALE:GREGORIAN
BEGIN:VEVENT
UID:5837e68b0d65b9f503b03fe02e2be90b
DTSTAMP:20260424T173216Z
SUMMARY:CDT Family Zoo Trip
DESCRIPTION:Charleston Jewish Federation\nJewish Community Calendar\nhttps:
 //jewishcharleston.org/event-calendar/cdt-family-zoo-trip-1676398976\n\nJo
 urney with us to Columbia Riverbanks Zoo for a wildlife family fun day and
  delicious picnic by Dining In.
DTSTART;TZID=America/New_York:20230416T093000
DTEND;TZID=America/New_York:20230416T113000
END:VEVENT
END:VCALENDAR
