BEGIN:VCALENDAR
PRODID:-//eluceo/ical//2.0/EN
VERSION:2.0
CALSCALE:GREGORIAN
BEGIN:VEVENT
UID:0626b1426d63874a56886b747f26ec10
DTSTAMP:20260421T044418Z
SUMMARY:CDT Congregational Meeting
DESCRIPTION:Charleston Jewish Federation\nJewish Community Calendar\nhttps:
 //jewishcharleston.org/event-calendar/cdt-congregational-meeting-167933059
 6\n\nDor Tikvah Members can find agenda and details as they become availab
 le at dortikvah.shulcloud.com/event/Cong-meets-23 You must be logged in to
  view this information.
DTSTART;TZID=America/New_York:20231119T173000
DTEND;TZID=America/New_York:20231119T193000
END:VEVENT
END:VCALENDAR
