BEGIN:VCALENDAR
PRODID:-//eluceo/ical//2.0/EN
VERSION:2.0
CALSCALE:GREGORIAN
BEGIN:VEVENT
UID:18fe30c129ea8c1cbd2b247d9d6e2bed
DTSTAMP:20260421T230032Z
SUMMARY:CDT Congregational Meeting
DESCRIPTION:Charleston Jewish Federation\nJewish Community Calendar\nhttps:
 //jewishcharleston.org/event-calendar/cdt-congregational-meeting-167933051
 1\n\nDor Tikvah Members can find agenda and details as they become availab
 le at dortikvah.shulcloud.com/event/Cong-meets-23\nYou must be logged in t
 o view this information.
DTSTART;TZID=America/New_York:20230820T173000
DTEND;TZID=America/New_York:20230820T193000
END:VEVENT
END:VCALENDAR
