BEGIN:VCALENDAR
PRODID:-//eluceo/ical//2.0/EN
VERSION:2.0
CALSCALE:GREGORIAN
BEGIN:VEVENT
UID:e7d1bee33fb0cc1beeb1b589d4be74f8
DTSTAMP:20260424T133502Z
SUMMARY:CDT Community 2nd Night Seder
DESCRIPTION:Charleston Jewish Federation\nJewish Community Calendar\nhttps:
 //jewishcharleston.org/event-calendar/cdt-community-2nd-night-seder-167847
 1928\n\nJoin us on the Second Night of Pesach for a Passover Community Sed
 er!\nSave your seat by March 16th at dortikvah.org/seder
DTSTART;TZID=America/New_York:20230406T210000
DTEND;TZID=America/New_York:20230406T230000
END:VEVENT
END:VCALENDAR
