BEGIN:VCALENDAR
PRODID:-//eluceo/ical//2.0/EN
VERSION:2.0
CALSCALE:GREGORIAN
BEGIN:VEVENT
UID:922836bca41d4069d143e751f0daf618
DTSTAMP:20260423T012613Z
SUMMARY:CDT Board Meeting
DESCRIPTION:Charleston Jewish Federation\nJewish Community Calendar\nhttps:
 //jewishcharleston.org/event-calendar/cdt-board-meeting-1679330890\n\nMeet
 ing of Congregation Dor Tikvah Board Members
DTSTART;TZID=America/New_York:20231016T173000
DTEND;TZID=America/New_York:20231016T193000
END:VEVENT
END:VCALENDAR
