BEGIN:VCALENDAR
PRODID:-//eluceo/ical//2.0/EN
VERSION:2.0
CALSCALE:GREGORIAN
BEGIN:VEVENT
UID:95691ae0f21e52c08b3ba5c8144bb9db
DTSTAMP:20260423T195928Z
SUMMARY:CDT Board Meeting
DESCRIPTION:Charleston Jewish Federation\nJewish Community Calendar\nhttps:
 //jewishcharleston.org/event-calendar/cdt-board-meeting-1679330756\n\nMeet
 ing of Congregation Dor Tikvah Board Members
DTSTART;TZID=America/New_York:20230626T173000
DTEND;TZID=America/New_York:20230626T193000
END:VEVENT
END:VCALENDAR
