BEGIN:VCALENDAR
PRODID:-//eluceo/ical//2.0/EN
VERSION:2.0
CALSCALE:GREGORIAN
BEGIN:VEVENT
UID:a4c56439a2f0bdab17c1a83c4ca4431b
DTSTAMP:20260425T123433Z
SUMMARY:CDT Board Meeting
DESCRIPTION:Charleston Jewish Federation\nJewish Community Calendar\nhttps:
 //jewishcharleston.org/event-calendar/cdt-board-meeting-1679330694\n\nMeet
 ing of Congregation Dor Tikvah Board Members
DTSTART;TZID=America/New_York:20230417T173000
DTEND;TZID=America/New_York:20230417T193000
END:VEVENT
END:VCALENDAR
