BEGIN:VCALENDAR
PRODID:-//eluceo/ical//2.0/EN
VERSION:2.0
CALSCALE:GREGORIAN
BEGIN:VEVENT
UID:1fdcfe16009c961fbfea2cf6b6296719
DTSTAMP:20260421T124320Z
SUMMARY:Camp Fair
DESCRIPTION:Charleston Jewish Federation\nJewish Community Calendar\nhttps:
 //jewishcharleston.org/event-calendar/camp-fair-1684853391\n\nJoin PJ Libr
 ary\, Charleston Jewish Federation\, and KKBE for this informative summer 
 camp fair. Learn about camp options for your family.
DTSTART;TZID=America/New_York:20231015T100000
DTEND;TZID=America/New_York:20231015T140000
END:VEVENT
END:VCALENDAR
