BEGIN:VCALENDAR
PRODID:-//eluceo/ical//2.0/EN
VERSION:2.0
CALSCALE:GREGORIAN
BEGIN:VEVENT
UID:ef99c1b7afe3c379453f96e849abbb17
DTSTAMP:20260421T112008Z
SUMMARY:BSBI Kum-ba-ya in The Suk-kah
DESCRIPTION:Charleston Jewish Federation\nJewish Community Calendar\nhttps:
 //jewishcharleston.org/event-calendar/bsbi-kum-ba-ya-in-the-suk-kah-169454
 1788\n\nOpen to the Community!\nEnjoy the festivity of Sukkot with singing
 \, food and friends in the BSBI Sukkah.\nThere is no charge for this event
  - Sponsorships are welcome.
DTSTART;TZID=America/New_York:20231003T171500
DTEND;TZID=America/New_York:20231003T184500
END:VEVENT
END:VCALENDAR
