BEGIN:VCALENDAR
PRODID:-//eluceo/ical//2.0/EN
VERSION:2.0
CALSCALE:GREGORIAN
BEGIN:VEVENT
UID:c17e49567861bc04b654e5c064db3275
DTSTAMP:20260423T195953Z
SUMMARY:BSBI Chanukah Lunch & Learn
DESCRIPTION:Charleston Jewish Federation\nJewish Community Calendar\nhttps:
 //jewishcharleston.org/event-calendar/bsbi-chanukah-lunch--learn-170061988
 9\n\nEnjoy a special Chanukah lunch and learn prepared by the BSBI Sisterh
 ood!
DTSTART;TZID=America/New_York:20231214T120000
DTEND;TZID=America/New_York:20231214T130000
END:VEVENT
END:VCALENDAR
