BEGIN:VCALENDAR
PRODID:-//eluceo/ical//2.0/EN
VERSION:2.0
CALSCALE:GREGORIAN
BEGIN:VEVENT
UID:3dd5b1f0725968298a8e36c443195edc
DTSTAMP:20260420T000957Z
SUMMARY:BSBI Chanukah Dinner
DESCRIPTION:Charleston Jewish Federation\nJewish Community Calendar\nhttps:
 //jewishcharleston.org/event-calendar/bsbi-chanukah-dinner-1694097759\n\nB
 SBI Chanukah Dinner\; Time and Cost TBD 
DTSTART;TZID=America/New_York:20231208T000000
DTEND;TZID=America/New_York:20231208T235959
END:VEVENT
END:VCALENDAR
