BEGIN:VCALENDAR
PRODID:-//eluceo/ical//2.0/EN
VERSION:2.0
CALSCALE:GREGORIAN
BEGIN:VEVENT
UID:fd0f8a784d50f1c5624792752cdb3caf
DTSTAMP:20260422T224652Z
SUMMARY:Bat Mitzvah of Gabi Varadi at CDT
DESCRIPTION:Charleston Jewish Federation\nJewish Community Calendar\nhttps:
 //jewishcharleston.org/event-calendar/bat-mitzvah-of-gabi-varadi-at-cdt-16
 82951534\n\nMazel tov the Varadi family on Gabi&#039\;s Bat Mitzvah! Join 
 us at Dor Tikvah to honor this special occasion.
DTSTART;TZID=America/New_York:20230819T090000
DTEND;TZID=America/New_York:20230819T130000
END:VEVENT
END:VCALENDAR
