BEGIN:VCALENDAR
PRODID:-//eluceo/ical//2.0/EN
VERSION:2.0
CALSCALE:GREGORIAN
BEGIN:VEVENT
UID:206c74cc5fb4770e2f594eb6ad58461e
DTSTAMP:20260422T135226Z
SUMMARY:Bat Mitzvah of Eleanor Schager at CDT
DESCRIPTION:Charleston Jewish Federation\nJewish Community Calendar\nhttps:
 //jewishcharleston.org/event-calendar/bat-mitzvah-of-eleanor-schager-at-cd
 t-1677772744\n\nMazel tov the Schager family on Eleanor&#039\;s Bat Mitzva
 h!
DTSTART;TZID=America/New_York:20230826T090000
DTEND;TZID=America/New_York:20230826T110000
END:VEVENT
END:VCALENDAR
