BEGIN:VCALENDAR
PRODID:-//eluceo/ical//2.0/EN
VERSION:2.0
CALSCALE:GREGORIAN
BEGIN:VEVENT
UID:1529f844844e7316ebe496aded1147f8
DTSTAMP:20260425T190909Z
SUMMARY:Bat Mitzvah of Aviva Cappell at Dor Tikvah
DESCRIPTION:Charleston Jewish Federation\nJewish Community Calendar\nhttps:
 //jewishcharleston.org/event-calendar/bat-mitzvah-of-aviva-cappell-at-dor-
 tikvah-1663939746\n\nAviva Cappell becomes a bat mitzvah!
DTSTART;TZID=America/New_York:20230311T090000
DTEND;TZID=America/New_York:20230311T110000
END:VEVENT
END:VCALENDAR
