BEGIN:VCALENDAR
PRODID:-//eluceo/ical//2.0/EN
VERSION:2.0
CALSCALE:GREGORIAN
BEGIN:VEVENT
UID:6346f0330398612175a24ddda3f408d7
DTSTAMP:20260425T151645Z
SUMMARY:Bar Mitzvah of Henri Gros at Synagogue Emanu-El
DESCRIPTION:Charleston Jewish Federation\nJewish Community Calendar\nhttps:
 //jewishcharleston.org/event-calendar/bar-mitzvah-of-henri-gros-at-synagog
 ue-emanu-el-1651169579\n\nBar Mitzvah of Henri Gros at Synagogue Emanu-El
DTSTART;TZID=America/New_York:20230421T071500
DTEND;TZID=America/New_York:20230421T081500
END:VEVENT
END:VCALENDAR
