BEGIN:VCALENDAR
PRODID:-//eluceo/ical//2.0/EN
VERSION:2.0
CALSCALE:GREGORIAN
BEGIN:VEVENT
UID:d6e4a9bc1f286321a9a9b7f74fca50e5
DTSTAMP:20260425T165825Z
SUMMARY:Bar Mitzvah of Daniel Gross at Synagogue Emanu-El
DESCRIPTION:Charleston Jewish Federation\nJewish Community Calendar\nhttps:
 //jewishcharleston.org/event-calendar/bar-mitzvah-of-daniel-gross-at-synag
 ogue-emanu-el-1635174845\n\nBar Mitzvah of Daniel Gross at Synagogue Emanu
 -El
DTSTART;TZID=America/New_York:20230520T093000
DTEND;TZID=America/New_York:20230520T130000
END:VEVENT
END:VCALENDAR
