BEGIN:VCALENDAR
PRODID:-//eluceo/ical//2.0/EN
VERSION:2.0
CALSCALE:GREGORIAN
BEGIN:VEVENT
UID:d353d83bf512ce0990f11b4bcc983720
DTSTAMP:20260422T040059Z
SUMMARY:An Update on Israel with Professors Yaron Ayalon and Joshua Shanes
DESCRIPTION:Charleston Jewish Federation\nJewish Community Calendar\nhttps:
 //jewishcharleston.org/event-calendar/an-update-on-israel-with-professors-
 yaron-ayalon-and-joshua-shanes-1693858720\n\nSince January 2023\, Israelis
  have taken to the streets every weekend in the hundreds of thousands to p
 rotest the government’s plans to overhaul the state’s judicial system\
 , which its opponents claim is a judicial coup” that would weaken Israel
 i democracy. Jewish Studies Director Dr. Yaron Ayalon joins Dr. Joshua Sha
 nes\, Director of the Arnold Center for Israel Studies\, in a conversation
  explaining the background to the protests\, what might we expect moving f
 orward\, and what American Jew...
DTSTART;TZID=America/New_York:20230920T180000
DTEND;TZID=America/New_York:20230920T190000
END:VEVENT
END:VCALENDAR
