BEGIN:VCALENDAR
PRODID:-//eluceo/ical//2.0/EN
VERSION:2.0
CALSCALE:GREGORIAN
BEGIN:VEVENT
UID:609af9115882e629cbb3a57d0f56c21b
DTSTAMP:20260422T164649Z
SUMMARY:Addlestone Hebrew Academy Board Meeting
DESCRIPTION:Charleston Jewish Federation\nJewish Community Calendar\nhttps:
 //jewishcharleston.org/event-calendar/addlestone-hebrew-academy-board-meet
 ing-1685976539\n\nThis meeting will be held at Addlestone Hebrew Academy.
DTSTART;TZID=America/New_York:20230807T183000
DTEND;TZID=America/New_York:20230807T203000
END:VEVENT
END:VCALENDAR
