BEGIN:VCALENDAR
PRODID:-//eluceo/ical//2.0/EN
VERSION:2.0
CALSCALE:GREGORIAN
BEGIN:VEVENT
UID:485a4be6d2f02be1c235affcc501ef7b
DTSTAMP:20260423T102051Z
SUMMARY:Addlestone Hebrew Academy Board Meeting
DESCRIPTION:Charleston Jewish Federation\nJewish Community Calendar\nhttps:
 //jewishcharleston.org/event-calendar/addlestone-hebrew-academy-board-meet
 ing-1685975866\n\nThis meeting is the monthly meeting of the Addlestone He
 brew Academy Board. The meeting will be at Addlestone Hebrew Academy.
DTSTART;TZID=America/New_York:20230605T183000
DTEND;TZID=America/New_York:20230605T203000
END:VEVENT
END:VCALENDAR
