BEGIN:VCALENDAR
PRODID:-//eluceo/ical//2.0/EN
VERSION:2.0
CALSCALE:GREGORIAN
BEGIN:VEVENT
UID:88bad101478db6922c9e8f05563fe33c
DTSTAMP:20260424T173211Z
SUMMARY:Addlestone Hebrew Academy Board Meeting
DESCRIPTION:Charleston Jewish Federation\nJewish Community Calendar\nhttps:
 //jewishcharleston.org/event-calendar/addlestone-hebrew-academy-board-meet
 ing-1672861983\n\nThe meeting will be held at Addlestone Hebrew Academy
DTSTART;TZID=America/New_York:20230403T183000
DTEND;TZID=America/New_York:20230403T203000
END:VEVENT
END:VCALENDAR
