BEGIN:VCALENDAR
PRODID:-//eluceo/ical//2.0/EN
VERSION:2.0
CALSCALE:GREGORIAN
BEGIN:VEVENT
UID:6091cbd85c05e6f7368c798184c6a74f
DTSTAMP:20260426T001427Z
SUMMARY:Addlestone Hebrew Academy Board Meeting
DESCRIPTION:Charleston Jewish Federation\nJewish Community Calendar\nhttps:
 //jewishcharleston.org/event-calendar/addlestone-hebrew-academy-board-meet
 ing-1672861729\n\nThe Meeting will be held at Addlestone Hebrew Academy
DTSTART;TZID=America/New_York:20230207T183000
DTEND;TZID=America/New_York:20230207T203000
END:VEVENT
END:VCALENDAR
